Package: rifiComparative Version: 1.11.0 Maintainer: Loubna Youssar MaintainerEmail: lyoussar at gmail.com git_url: https://git.bioconductor.org/packages/rifiComparative git_branch: devel git_last_commit: fbe68f4 git_last_commit_date: 2025-10-29 11:20:47 -0500 (Wed, 29 Oct 2025)