Package: rifi Version: 1.15.0 Command: /home/biocbuild/bbs-3.23-bioc/R/bin/R CMD INSTALL rifi StartedAt: 2025-11-16 15:28:02 -0500 (Sun, 16 Nov 2025) EndedAt: 2025-11-16 15:28:40 -0500 (Sun, 16 Nov 2025) EllapsedTime: 38.8 seconds RetCode: 0 Status: OK