Package: rifi Version: 1.15.0 Command: /home/biocbuild/bbs-3.23-bioc/R/bin/R CMD build --keep-empty-dirs --no-resave-data rifi StartedAt: 2025-11-16 19:43:47 -0500 (Sun, 16 Nov 2025) EndedAt: 2025-11-16 19:45:11 -0500 (Sun, 16 Nov 2025) EllapsedTime: 84.1 seconds RetCode: 0 Status: OK PackageFile: rifi_1.15.0.tar.gz PackageFileSize: 6.606 MiB