Package: rifi Version: 1.15.0 Command: /Library/Frameworks/R.framework/Resources/bin/R CMD INSTALL rifi StartedAt: 2025-11-14 15:17:04 -0500 (Fri, 14 Nov 2025) EndedAt: 2025-11-14 15:17:21 -0500 (Fri, 14 Nov 2025) EllapsedTime: 16.4 seconds RetCode: 0 Status: OK