Package: rifi Version: 1.15.0 Command: /Library/Frameworks/R.framework/Resources/bin/R CMD build --keep-empty-dirs --no-resave-data rifi StartedAt: 2025-11-13 17:30:17 -0500 (Thu, 13 Nov 2025) EndedAt: 2025-11-13 17:30:52 -0500 (Thu, 13 Nov 2025) EllapsedTime: 35.4 seconds RetCode: 0 Status: OK PackageFile: rifi_1.15.0.tar.gz PackageFileSize: 6.607 MiB