Package: rifi Version: 1.15.0 Command: rm -rf rifi.buildbin-libdir && mkdir rifi.buildbin-libdir && /Users/biocbuild/BBS/utils/build-universal.sh rifi_1.15.0.tar.gz /Library/Frameworks/R.framework/Resources/bin/R rifi.buildbin-libdir StartedAt: 2025-11-13 23:53:13 -0500 (Thu, 13 Nov 2025) EndedAt: 2025-11-13 23:53:33 -0500 (Thu, 13 Nov 2025) EllapsedTime: 20.4 seconds RetCode: 0 Status: OK PackageFile: rifi_1.15.0.tgz PackageFileSize: 4.168 MiB