Package: riboSeqR Version: 1.45.0 Command: /Library/Frameworks/R.framework/Resources/bin/R CMD INSTALL riboSeqR StartedAt: 2025-11-14 15:11:20 -0500 (Fri, 14 Nov 2025) EndedAt: 2025-11-14 15:11:26 -0500 (Fri, 14 Nov 2025) EllapsedTime: 6.2 seconds RetCode: 0 Status: OK