Package: riboSeqR Version: 1.45.0 Command: rm -rf riboSeqR.buildbin-libdir && mkdir riboSeqR.buildbin-libdir && /Users/biocbuild/BBS/utils/build-universal.sh riboSeqR_1.45.0.tar.gz /Library/Frameworks/R.framework/Resources/bin/R riboSeqR.buildbin-libdir StartedAt: 2025-11-14 23:48:14 -0500 (Fri, 14 Nov 2025) EndedAt: 2025-11-14 23:48:22 -0500 (Fri, 14 Nov 2025) EllapsedTime: 8.2 seconds RetCode: 0 Status: OK PackageFile: riboSeqR_1.45.0.tgz PackageFileSize: 3.949 MiB