Package: rhdf5filters Version: 1.23.0 Maintainer: Hugo Gruson MaintainerEmail: hugo.gruson at embl.de git_url: https://git.bioconductor.org/packages/rhdf5filters git_branch: devel git_last_commit: 3bf6eb8 git_last_commit_date: 2025-10-29 10:57:27 -0500 (Wed, 29 Oct 2025)