Package: rhdf5client Version: 1.33.0 Command: /home/biocbuild/bbs-3.23-bioc/R/bin/R CMD build --keep-empty-dirs --no-resave-data rhdf5client StartedAt: 2025-11-11 19:40:57 -0500 (Tue, 11 Nov 2025) EndedAt: 2025-11-11 19:41:25 -0500 (Tue, 11 Nov 2025) EllapsedTime: 28.0 seconds RetCode: 0 Status: OK PackageFile: rhdf5client_1.33.0.tar.gz PackageFileSize: 532.6 KiB