Package: rhdf5client Version: 1.33.0 Command: /Library/Frameworks/R.framework/Resources/bin/R CMD INSTALL rhdf5client StartedAt: 2025-11-12 15:24:02 -0500 (Wed, 12 Nov 2025) EndedAt: 2025-11-12 15:24:10 -0500 (Wed, 12 Nov 2025) EllapsedTime: 7.6 seconds RetCode: 0 Status: OK