Package: rhdf5client Version: 1.33.0 Command: /Library/Frameworks/R.framework/Resources/bin/R CMD build --keep-empty-dirs --no-resave-data rhdf5client StartedAt: 2025-11-12 17:04:12 -0500 (Wed, 12 Nov 2025) EndedAt: 2025-11-12 17:04:26 -0500 (Wed, 12 Nov 2025) EllapsedTime: 14.2 seconds RetCode: 0 Status: OK PackageFile: rhdf5client_1.33.0.tar.gz PackageFileSize: 532.1 KiB