Package: rhdf5client Version: 1.33.0 Command: rm -rf rhdf5client.buildbin-libdir && mkdir rhdf5client.buildbin-libdir && /Users/biocbuild/BBS/utils/build-universal.sh rhdf5client_1.33.0.tar.gz /Library/Frameworks/R.framework/Resources/bin/R rhdf5client.buildbin-libdir StartedAt: 2025-11-12 21:08:09 -0500 (Wed, 12 Nov 2025) EndedAt: 2025-11-12 21:08:19 -0500 (Wed, 12 Nov 2025) EllapsedTime: 10.2 seconds RetCode: 0 Status: OK PackageFile: rhdf5client_1.33.0.tgz PackageFileSize: 986.2 KiB