Package: rhdf5 Version: 2.55.8 Command: /Library/Frameworks/R.framework/Resources/bin/R CMD INSTALL rhdf5 StartedAt: 2025-11-14 15:03:52 -0500 (Fri, 14 Nov 2025) EndedAt: 2025-11-14 15:04:01 -0500 (Fri, 14 Nov 2025) EllapsedTime: 9.2 seconds RetCode: 0 Status: OK