Package: rhdf5 Version: 2.55.8 Command: /Library/Frameworks/R.framework/Resources/bin/R CMD build --keep-empty-dirs --no-resave-data rhdf5 StartedAt: 2025-11-14 17:26:24 -0500 (Fri, 14 Nov 2025) EndedAt: 2025-11-14 17:26:56 -0500 (Fri, 14 Nov 2025) EllapsedTime: 31.3 seconds RetCode: 0 Status: OK PackageFile: rhdf5_2.55.8.tar.gz PackageFileSize: 1.117 MiB