Package: rhdf5 Version: 2.55.8 Command: rm -rf rhdf5.buildbin-libdir && mkdir rhdf5.buildbin-libdir && /Users/biocbuild/BBS/utils/build-universal.sh rhdf5_2.55.8.tar.gz /Library/Frameworks/R.framework/Resources/bin/R rhdf5.buildbin-libdir StartedAt: 2025-11-14 23:48:02 -0500 (Fri, 14 Nov 2025) EndedAt: 2025-11-14 23:48:13 -0500 (Fri, 14 Nov 2025) EllapsedTime: 10.2 seconds RetCode: 0 Status: OK PackageFile: rhdf5_2.55.8.tgz PackageFileSize: 4.483 MiB