Package: rfaRm Version: 1.23.0 Command: /Library/Frameworks/R.framework/Resources/bin/R CMD INSTALL rfaRm StartedAt: 2025-11-13 15:10:04 -0500 (Thu, 13 Nov 2025) EndedAt: 2025-11-13 15:10:12 -0500 (Thu, 13 Nov 2025) EllapsedTime: 7.9 seconds RetCode: 0 Status: OK