Package: rfaRm Version: 1.23.0 Maintainer: Lara Selles Vidal MaintainerEmail: lara.selles at oist.jp git_url: https://git.bioconductor.org/packages/rfaRm git_branch: devel git_last_commit: d6208ab git_last_commit_date: 2025-10-29 10:58:41 -0500 (Wed, 29 Oct 2025)