Package: rfPred Version: 1.49.0 Command: /home/biocbuild/bbs-3.23-bioc/R/bin/R CMD build --keep-empty-dirs --no-resave-data rfPred StartedAt: 2025-11-13 19:35:31 -0500 (Thu, 13 Nov 2025) EndedAt: 2025-11-13 19:35:49 -0500 (Thu, 13 Nov 2025) EllapsedTime: 18.0 seconds RetCode: 0 Status: OK PackageFile: rfPred_1.49.0.tar.gz PackageFileSize: 1.053 MiB