Package: rfPred Version: 1.49.0 Command: /Library/Frameworks/R.framework/Resources/bin/R CMD INSTALL rfPred StartedAt: 2025-11-12 15:24:06 -0500 (Wed, 12 Nov 2025) EndedAt: 2025-11-12 15:24:11 -0500 (Wed, 12 Nov 2025) EllapsedTime: 5.1 seconds RetCode: 0 Status: OK