Package: rfPred Version: 1.49.0 Command: /Library/Frameworks/R.framework/Resources/bin/R CMD build --keep-empty-dirs --no-resave-data rfPred StartedAt: 2025-11-16 17:26:55 -0500 (Sun, 16 Nov 2025) EndedAt: 2025-11-16 17:27:04 -0500 (Sun, 16 Nov 2025) EllapsedTime: 9.1 seconds RetCode: 0 Status: OK PackageFile: rfPred_1.49.0.tar.gz PackageFileSize: 1.053 MiB