Package: rfPred Version: 1.49.0 Command: rm -rf rfPred.buildbin-libdir && mkdir rfPred.buildbin-libdir && /Users/biocbuild/BBS/utils/build-universal.sh rfPred_1.49.0.tar.gz /Library/Frameworks/R.framework/Resources/bin/R rfPred.buildbin-libdir StartedAt: 2025-11-12 21:08:00 -0500 (Wed, 12 Nov 2025) EndedAt: 2025-11-12 21:08:07 -0500 (Wed, 12 Nov 2025) EllapsedTime: 7.1 seconds RetCode: 0 Status: OK PackageFile: rfPred_1.49.0.tgz PackageFileSize: 1.077 MiB