Package: rfPred Version: 1.49.0 Maintainer: Hugo Varet MaintainerEmail: varethugo at gmail.com git_url: https://git.bioconductor.org/packages/rfPred git_branch: devel git_last_commit: 553494c git_last_commit_date: 2025-10-29 10:15:50 -0500 (Wed, 29 Oct 2025)