Package: retrofit Version: 1.11.0 Command: /home/biocbuild/bbs-3.23-bioc/R/bin/R CMD INSTALL retrofit StartedAt: 2025-11-13 15:03:10 -0500 (Thu, 13 Nov 2025) EndedAt: 2025-11-13 15:03:48 -0500 (Thu, 13 Nov 2025) EllapsedTime: 37.8 seconds RetCode: 0 Status: OK