Package: retrofit Version: 1.11.0 Command: /home/biocbuild/bbs-3.23-bioc/R/bin/R CMD build --keep-empty-dirs --no-resave-data retrofit StartedAt: 2025-11-13 19:35:09 -0500 (Thu, 13 Nov 2025) EndedAt: 2025-11-13 19:35:51 -0500 (Thu, 13 Nov 2025) EllapsedTime: 42.1 seconds RetCode: 0 Status: OK PackageFile: retrofit_1.11.0.tar.gz PackageFileSize: 4.705 MiB