Package: retrofit Version: 1.11.0 Command: /Library/Frameworks/R.framework/Resources/bin/R CMD INSTALL retrofit StartedAt: 2025-11-14 15:02:29 -0500 (Fri, 14 Nov 2025) EndedAt: 2025-11-14 15:02:42 -0500 (Fri, 14 Nov 2025) EllapsedTime: 13.0 seconds RetCode: 0 Status: OK