Package: retrofit Version: 1.11.0 Command: /Library/Frameworks/R.framework/Resources/bin/R CMD build --keep-empty-dirs --no-resave-data retrofit StartedAt: 2025-11-13 17:28:42 -0500 (Thu, 13 Nov 2025) EndedAt: 2025-11-13 17:28:59 -0500 (Thu, 13 Nov 2025) EllapsedTime: 17.2 seconds RetCode: 0 Status: OK PackageFile: retrofit_1.11.0.tar.gz PackageFileSize: 4.576 MiB