Package: retrofit Version: 1.11.0 Command: rm -rf retrofit.buildbin-libdir && mkdir retrofit.buildbin-libdir && /Users/biocbuild/BBS/utils/build-universal.sh retrofit_1.11.0.tar.gz /Library/Frameworks/R.framework/Resources/bin/R retrofit.buildbin-libdir StartedAt: 2025-11-14 23:47:52 -0500 (Fri, 14 Nov 2025) EndedAt: 2025-11-14 23:48:00 -0500 (Fri, 14 Nov 2025) EllapsedTime: 8.2 seconds RetCode: 0 Status: OK PackageFile: retrofit_1.11.0.tgz PackageFileSize: 4.641 MiB