Package: retrofit Version: 1.11.0 Maintainer: Adam Park MaintainerEmail: akp6031 at psu.edu git_url: https://git.bioconductor.org/packages/retrofit git_branch: devel git_last_commit: 88f4e91 git_last_commit_date: 2025-10-29 11:22:56 -0500 (Wed, 29 Oct 2025)