Package: regutools Version: 1.23.0 Command: /Library/Frameworks/R.framework/Resources/bin/R CMD INSTALL regutools StartedAt: 2025-11-13 15:26:44 -0500 (Thu, 13 Nov 2025) EndedAt: 2025-11-13 15:27:07 -0500 (Thu, 13 Nov 2025) EllapsedTime: 22.5 seconds RetCode: 0 Status: OK