Package: regutools Version: 1.23.0 Command: /Library/Frameworks/R.framework/Resources/bin/R CMD build --keep-empty-dirs --no-resave-data regutools StartedAt: 2025-11-12 17:03:23 -0500 (Wed, 12 Nov 2025) EndedAt: 2025-11-12 17:04:02 -0500 (Wed, 12 Nov 2025) EllapsedTime: 38.4 seconds RetCode: 0 Status: OK PackageFile: regutools_1.23.0.tar.gz PackageFileSize: 379.3 KiB