Package: recoup Version: 1.39.0 Command: /home/biocbuild/bbs-3.23-bioc/R/bin/R CMD INSTALL recoup StartedAt: 2025-11-14 15:40:42 -0500 (Fri, 14 Nov 2025) EndedAt: 2025-11-14 15:41:27 -0500 (Fri, 14 Nov 2025) EllapsedTime: 45.7 seconds RetCode: 0 Status: OK