Package: recoup Version: 1.39.0 Command: /Library/Frameworks/R.framework/Resources/bin/R CMD INSTALL recoup StartedAt: 2025-11-14 15:20:55 -0500 (Fri, 14 Nov 2025) EndedAt: 2025-11-14 15:21:14 -0500 (Fri, 14 Nov 2025) EllapsedTime: 18.9 seconds RetCode: 0 Status: OK