Package: recoup Version: 1.39.0 Command: rm -rf recoup.buildbin-libdir && mkdir recoup.buildbin-libdir && /Users/biocbuild/BBS/utils/build-universal.sh recoup_1.39.0.tar.gz /Library/Frameworks/R.framework/Resources/bin/R recoup.buildbin-libdir StartedAt: 2025-11-14 23:47:31 -0500 (Fri, 14 Nov 2025) EndedAt: 2025-11-14 23:47:53 -0500 (Fri, 14 Nov 2025) EllapsedTime: 22.4 seconds RetCode: 0 Status: OK PackageFile: recoup_1.39.0.tgz PackageFileSize: 2.692 MiB