Package: recoup Version: 1.39.0 Maintainer: Panagiotis Moulos MaintainerEmail: moulos at fleming.gr git_url: https://git.bioconductor.org/packages/recoup git_branch: devel git_last_commit: 66d3f66 git_last_commit_date: 2025-10-29 10:31:02 -0500 (Wed, 29 Oct 2025)