Package: recountmethylation Version: 1.21.0 Command: /Library/Frameworks/R.framework/Resources/bin/R CMD INSTALL recountmethylation StartedAt: 2025-11-14 15:22:26 -0500 (Fri, 14 Nov 2025) EndedAt: 2025-11-14 15:22:28 -0500 (Fri, 14 Nov 2025) EllapsedTime: 1.3 seconds RetCode: 0 Status: OK