Package: recountmethylation Version: 1.21.0 Command: /Library/Frameworks/R.framework/Resources/bin/R CMD build --keep-empty-dirs --no-resave-data recountmethylation StartedAt: 2025-11-14 17:24:40 -0500 (Fri, 14 Nov 2025) EndedAt: 2025-11-14 17:25:42 -0500 (Fri, 14 Nov 2025) EllapsedTime: 61.7 seconds RetCode: 0 Status: OK PackageFile: recountmethylation_1.21.0.tar.gz PackageFileSize: 4.858 MiB