Package: rcellminer Version: 2.33.0 Command: /home/biocbuild/bbs-3.23-bioc/R/bin/R CMD INSTALL rcellminer StartedAt: 2025-11-23 15:15:22 -0500 (Sun, 23 Nov 2025) EndedAt: 2025-11-23 15:15:30 -0500 (Sun, 23 Nov 2025) EllapsedTime: 7.5 seconds RetCode: 0 Status: OK