Package: rcellminer Version: 2.33.0 Command: /Library/Frameworks/R.framework/Resources/bin/R CMD INSTALL rcellminer StartedAt: 2025-11-14 15:10:50 -0500 (Fri, 14 Nov 2025) EndedAt: 2025-11-14 15:10:54 -0500 (Fri, 14 Nov 2025) EllapsedTime: 3.8 seconds RetCode: 0 Status: OK