Package: rcellminer Version: 2.33.0 Command: /Library/Frameworks/R.framework/Resources/bin/R CMD build --keep-empty-dirs --no-resave-data rcellminer StartedAt: 2025-11-14 17:23:43 -0500 (Fri, 14 Nov 2025) EndedAt: 2025-11-14 17:24:58 -0500 (Fri, 14 Nov 2025) EllapsedTime: 74.8 seconds RetCode: 0 Status: OK PackageFile: rcellminer_2.33.0.tar.gz PackageFileSize: 2.66 MiB