Package: rcellminer Version: 2.33.0 Command: rm -rf rcellminer.buildbin-libdir && mkdir rcellminer.buildbin-libdir && /Users/biocbuild/BBS/utils/build-universal.sh rcellminer_2.33.0.tar.gz /Library/Frameworks/R.framework/Resources/bin/R rcellminer.buildbin-libdir StartedAt: 2025-11-14 23:47:13 -0500 (Fri, 14 Nov 2025) EndedAt: 2025-11-14 23:47:18 -0500 (Fri, 14 Nov 2025) EllapsedTime: 5.1 seconds RetCode: 0 Status: OK PackageFile: rcellminer_2.33.0.tgz PackageFileSize: 2.918 MiB