Package: rawrr Version: 1.19.0 Maintainer: Christian Panse MaintainerEmail: cp at fgcz.ethz.ch git_url: https://git.bioconductor.org/packages/rawrr git_branch: devel git_last_commit: 465d5a7 git_last_commit_date: 2025-10-29 11:09:49 -0500 (Wed, 29 Oct 2025)