Package: rawDiag Version: 1.7.0 Command: /home/biocbuild/bbs-3.23-bioc/R/bin/R CMD INSTALL rawDiag StartedAt: 2025-11-14 15:09:33 -0500 (Fri, 14 Nov 2025) EndedAt: 2025-11-14 15:09:40 -0500 (Fri, 14 Nov 2025) EllapsedTime: 7.0 seconds RetCode: 0 Status: OK