Package: rawDiag Version: 1.7.0 Command: /home/biocbuild/bbs-3.23-bioc/R/bin/R CMD build --keep-empty-dirs --no-resave-data rawDiag StartedAt: 2025-11-14 19:28:59 -0500 (Fri, 14 Nov 2025) EndedAt: 2025-11-14 19:30:11 -0500 (Fri, 14 Nov 2025) EllapsedTime: 72.0 seconds RetCode: 0 Status: OK PackageFile: rawDiag_1.7.0.tar.gz PackageFileSize: 2.141 MiB