Package: rawDiag Version: 1.7.0 Command: /Library/Frameworks/R.framework/Resources/bin/R CMD build --keep-empty-dirs --no-resave-data rawDiag StartedAt: 2025-11-12 17:01:20 -0500 (Wed, 12 Nov 2025) EndedAt: 2025-11-12 17:02:12 -0500 (Wed, 12 Nov 2025) EllapsedTime: 52.6 seconds RetCode: 0 Status: OK PackageFile: rawDiag_1.7.0.tar.gz PackageFileSize: 2.081 MiB