Package: rawDiag Version: 1.7.0 Command: rm -rf rawDiag.buildbin-libdir && mkdir rawDiag.buildbin-libdir && /Users/biocbuild/BBS/utils/build-universal.sh rawDiag_1.7.0.tar.gz /Library/Frameworks/R.framework/Resources/bin/R rawDiag.buildbin-libdir StartedAt: 2025-11-13 23:51:56 -0500 (Thu, 13 Nov 2025) EndedAt: 2025-11-13 23:52:00 -0500 (Thu, 13 Nov 2025) EllapsedTime: 4.1 seconds RetCode: 0 Status: OK PackageFile: rawDiag_1.7.0.tgz PackageFileSize: 2.101 MiB