Package: rawDiag Version: 1.7.0 Maintainer: Christian Panse MaintainerEmail: cp at fgcz.ethz.ch git_url: https://git.bioconductor.org/packages/rawDiag git_branch: devel git_last_commit: 92fcac9 git_last_commit_date: 2025-10-29 11:28:12 -0500 (Wed, 29 Oct 2025)