Package: randRotation Version: 1.23.0 Command: /home/biocbuild/bbs-3.23-bioc/R/bin/R CMD build --keep-empty-dirs --no-resave-data randRotation StartedAt: 2025-11-13 19:28:38 -0500 (Thu, 13 Nov 2025) EndedAt: 2025-11-13 19:30:24 -0500 (Thu, 13 Nov 2025) EllapsedTime: 106.1 seconds RetCode: 0 Status: OK PackageFile: randRotation_1.23.0.tar.gz PackageFileSize: 974.4 KiB