Package: randRotation Version: 1.23.0 Command: /Library/Frameworks/R.framework/Resources/bin/R CMD build --keep-empty-dirs --no-resave-data randRotation StartedAt: 2025-11-13 17:25:40 -0500 (Thu, 13 Nov 2025) EndedAt: 2025-11-13 17:26:20 -0500 (Thu, 13 Nov 2025) EllapsedTime: 40.5 seconds RetCode: 1 Status: ERROR PackageFile: None PackageFileSize: NA