Package: randPack Version: 1.57.0 Command: /Library/Frameworks/R.framework/Resources/bin/R CMD build --keep-empty-dirs --no-resave-data randPack StartedAt: 2025-11-13 17:25:39 -0500 (Thu, 13 Nov 2025) EndedAt: 2025-11-13 17:25:43 -0500 (Thu, 13 Nov 2025) EllapsedTime: 4.1 seconds RetCode: 0 Status: OK PackageFile: randPack_1.57.0.tar.gz PackageFileSize: 253.7 KiB